BEGIN:VCALENDAR
VERSION:2.0
PRODID:-//ChamberMaster//Event Calendar 2.0//EN
METHOD:PUBLISH
X-PUBLISHED-TTL:P1H
REFRESH-INTERVAL:P1H
CALSCALE:GREGORIAN
BEGIN:VTIMEZONE
TZID:America/Denver
BEGIN:DAYLIGHT
RRULE:FREQ=YEARLY;BYMONTH=3;BYDAY=2SU
DTSTART:20070101T000000
TZOFFSETFROM:-0700
TZOFFSETTO:-0600
TZNAME:Mountain Daylight Time
END:DAYLIGHT
BEGIN:STANDARD
RRULE:FREQ=YEARLY;BYMONTH=11;BYDAY=1SU
DTSTART:20070101T000000
TZOFFSETFROM:-0600
TZOFFSETTO:-0700
TZNAME:Mountain Standard Time
END:STANDARD
END:VTIMEZONE
BEGIN:VEVENT
DTSTART;TZID=America/Denver:20260520T173000
DTEND;TZID=America/Denver:20260520T190000
X-MICROSOFT-CDO-ALLDAYEVENT:FALSE
SUMMARY:Banter\, Business & Beer (BBB) with Rockies Law
DESCRIPTION:Rockies Law Fernie is proud to host this month's Chamber of Commerce Business\, Banter and Beer. We have an exciting local announcement to share on the night\, and we're looking forward to catching up with friends in the Fernie business community and meeting some new faces. Come for the beer\, stay for the conversation. Registration required BBBs are free to attend for membersImportant Notice: The event would be hosted at the Fernie Senior Citzens Drop-in Centre.
X-ALT-DESC;FMTTYPE=text/html:<!DOCTYPE html><html><head><title></title></head><body aria-disabled="false"><p>Rockies Law Fernie is proud to host this month&#39\;s Chamber of Commerce Business\, Banter and Beer. We have an exciting local announcement to share on the night\, and we&#39\;re looking forward to catching up with friends in the Fernie business community and meeting some new faces.&nbsp\;</p><p>Come for the beer\, stay for the conversation.&nbsp\;</p><p><strong fr-original-style="" style="font-weight: 700\;">Registration required&nbsp\;</strong></p><p>BBBs are free to attend for members</p><p><strong fr-original-style="" style="font-weight: 700\;">Important Notice:&nbsp\;</strong>The event would be hosted at the Fernie Senior Citzens Drop-in Centre.</p></body></html>
LOCATION:562 - 3rd Avenue Fernie BC V0B 1M5
UID:e.4395.1445840
SEQUENCE:3
DTSTAMP:20260419T120802Z
URL:https://business.ferniechamber.com/events/Details/banter-business-beer-bbb-with-rockies-law-1712492?sourceTypeId=Hub
END:VEVENT
END:VCALENDAR
